BEGIN:VCALENDAR
VERSION:2.0
PRODID:-//ITQ GmbH - ECPv6.15.17.1//NONSGML v1.0//EN
CALSCALE:GREGORIAN
METHOD:PUBLISH
X-WR-CALNAME:ITQ GmbH
X-ORIGINAL-URL:https://www.itq.de
X-WR-CALDESC:Veranstaltungen für ITQ GmbH
REFRESH-INTERVAL;VALUE=DURATION:PT1H
X-Robots-Tag:noindex
X-PUBLISHED-TTL:PT1H
BEGIN:VTIMEZONE
TZID:Europe/Berlin
BEGIN:DAYLIGHT
TZOFFSETFROM:+0100
TZOFFSETTO:+0200
TZNAME:CEST
DTSTART:20240331T010000
END:DAYLIGHT
BEGIN:STANDARD
TZOFFSETFROM:+0200
TZOFFSETTO:+0100
TZNAME:CET
DTSTART:20241027T010000
END:STANDARD
BEGIN:DAYLIGHT
TZOFFSETFROM:+0100
TZOFFSETTO:+0200
TZNAME:CEST
DTSTART:20250330T010000
END:DAYLIGHT
BEGIN:STANDARD
TZOFFSETFROM:+0200
TZOFFSETTO:+0100
TZNAME:CET
DTSTART:20251026T010000
END:STANDARD
BEGIN:DAYLIGHT
TZOFFSETFROM:+0100
TZOFFSETTO:+0200
TZNAME:CEST
DTSTART:20260329T010000
END:DAYLIGHT
BEGIN:STANDARD
TZOFFSETFROM:+0200
TZOFFSETTO:+0100
TZNAME:CET
DTSTART:20261025T010000
END:STANDARD
END:VTIMEZONE
BEGIN:VEVENT
DTSTART;TZID=Europe/Berlin:20250705T090000
DTEND;TZID=Europe/Berlin:20250706T170000
DTSTAMP:20260423T133832
CREATED:20250616T112948Z
LAST-MODIFIED:20250808T121633Z
UID:28847-1751706000-1751821200@www.itq.de
SUMMARY:Festival der Zukunft 2025
DESCRIPTION:Vom 05.-06. Juli 2025 wird die ITQ GmbH gemeinsam mit der Gerda Stetter Stiftung am Festival der Zukunft beim Deutschen Museum in München mit zahlreichen Technik-Workshop Stationen teilnehmen. \nJetzt buchen
URL:https://www.itq.de/event/festival-der-zukunft-2025/
LOCATION:Deutsches Museum\, Museumsinsel 1\, Kartenlaub 290\, 80538 München
END:VEVENT
END:VCALENDAR